BEGIN:VCALENDAR
VERSION:2.0
PRODID:spatie/icalendar-generator
DESCRIPTION:Events from 
X-WR-CALDESC:Events from 
REFRESH-INTERVAL;VALUE=DURATION:PT1440M
X-PUBLISHED-TTL:PT1440M
BEGIN:VTIMEZONE
TZID:Etc/GMT+0
BEGIN:STANDARD
DTSTART:20231015T000000Z
TZOFFSETFROM:+0000
TZOFFSETTO:+0000
END:STANDARD
END:VTIMEZONE
BEGIN:VTIMEZONE
TZID:UTC
BEGIN:STANDARD
DTSTART:20250729T155325Z
TZOFFSETFROM:+0000
TZOFFSETTO:+0000
END:STANDARD
END:VTIMEZONE
BEGIN:VEVENT
UID:357-355
DTSTAMP:20260425T155325Z
SUMMARY:Wordsworth Club (Grades 1-3)
LOCATION:
ORGANIZER;CN=admin:MAILTO:q4mohan@gmail.com
DTSTART;TZID=Etc/GMT+0:20240711T000000
DTEND;TZID=Etc/GMT+0:20240711T010000
X-ALT-DESC;FMTTYPE=TEXT/HTML: Activity: Storybook Creation Workshop Descri
 ption: In this activity\, students will work together to create their own 
 storybooks. They will brainstorm ideas for characters\, settings\, and plo
 tlines\, then collaborate to write and illustrate their stories. Students 
 can share their finished storybooks with each other and even perform readi
 ngs
CATEGORIES:General
URL;VALUE=URI:https://kairosgs.com/mc-events/wordsworth-club-grades-1-3/
METHOD:PUBLISH
END:VEVENT
END:VCALENDAR