BEGIN:VCALENDAR
VERSION:2.0
PRODID:spatie/icalendar-generator
DESCRIPTION:Events from 
X-WR-CALDESC:Events from 
REFRESH-INTERVAL;VALUE=DURATION:PT1440M
X-PUBLISHED-TTL:PT1440M
BEGIN:VTIMEZONE
TZID:Etc/GMT+0
BEGIN:STANDARD
DTSTART:20240319T000000Z
TZOFFSETFROM:+0000
TZOFFSETTO:+0000
END:STANDARD
END:VTIMEZONE
BEGIN:VTIMEZONE
TZID:UTC
BEGIN:STANDARD
DTSTART:20250725T235659Z
TZOFFSETFROM:+0000
TZOFFSETTO:+0000
END:STANDARD
END:VTIMEZONE
BEGIN:VEVENT
UID:546-544
DTSTAMP:20260421T235659Z
SUMMARY:KAROS SYNAVLIA-Pre-Gr1
LOCATION:
ORGANIZER;CN=admin:MAILTO:q4mohan@gmail.com
DTSTART;TZID=Etc/GMT+0:20241214T000000
DTEND;TZID=Etc/GMT+0:20241214T010000
X-ALT-DESC;FMTTYPE=TEXT/HTML:
CATEGORIES:General
URL;VALUE=URI:https://kairosgs.com/mc-events/karos-synavlia-pre-gr1/
METHOD:PUBLISH
END:VEVENT
END:VCALENDAR