BEGIN:VCALENDAR
VERSION:2.0
PRODID:spatie/icalendar-generator
DESCRIPTION:Events from 
X-WR-CALDESC:Events from 
REFRESH-INTERVAL;VALUE=DURATION:PT1440M
X-PUBLISHED-TTL:PT1440M
BEGIN:VTIMEZONE
TZID:Etc/GMT+0
BEGIN:STANDARD
DTSTART:20240325T000000Z
TZOFFSETFROM:+0000
TZOFFSETTO:+0000
END:STANDARD
END:VTIMEZONE
BEGIN:VTIMEZONE
TZID:UTC
BEGIN:STANDARD
DTSTART:20250725T203249Z
TZOFFSETFROM:+0000
TZOFFSETTO:+0000
END:STANDARD
END:VTIMEZONE
BEGIN:VEVENT
UID:551-549
DTSTAMP:20260421T203249Z
SUMMARY:Assembly Duties: Grade: 2A Theme: Book is my best friend
LOCATION:
ORGANIZER;CN=admin:MAILTO:q4mohan@gmail.com
DTSTART;TZID=Etc/GMT+0:20241220T000000
DTEND;TZID=Etc/GMT+0:20241220T010000
X-ALT-DESC;FMTTYPE=TEXT/HTML:
CATEGORIES:General
URL;VALUE=URI:https://kairosgs.com/mc-events/assembly-duties-grade-2a-theme
 -book-is-my-best-friend/
METHOD:PUBLISH
END:VEVENT
END:VCALENDAR