BEGIN:VCALENDAR
VERSION:2.0
PRODID:spatie/icalendar-generator
DESCRIPTION:Events from 
X-WR-CALDESC:Events from 
REFRESH-INTERVAL;VALUE=DURATION:PT1440M
X-PUBLISHED-TTL:PT1440M
BEGIN:VTIMEZONE
TZID:Etc/GMT+0
BEGIN:STANDARD
DTSTART:20230215T000000Z
TZOFFSETFROM:+0000
TZOFFSETTO:+0000
END:STANDARD
END:VTIMEZONE
BEGIN:VTIMEZONE
TZID:UTC
BEGIN:STANDARD
DTSTART:20250723T193948Z
TZOFFSETFROM:+0000
TZOFFSETTO:+0000
END:STANDARD
END:VTIMEZONE
BEGIN:VEVENT
UID:105-105
DTSTAMP:20260419T193948Z
SUMMARY:Deepavali Holiday
LOCATION:
ORGANIZER;CN=admin:MAILTO:praveenkeyblocks@gmail.com
DTSTART;TZID=Etc/GMT+0:20231112T000000
DTEND;TZID=Etc/GMT+0:20231112T010000
X-ALT-DESC;FMTTYPE=TEXT/HTML:
CATEGORIES:General
URL;VALUE=URI:https://kairosgs.com/mc-events/deepavali-holiday/
METHOD:PUBLISH
END:VEVENT
END:VCALENDAR