BEGIN:VCALENDAR
VERSION:2.0
PRODID:spatie/icalendar-generator
DESCRIPTION:Events from 
X-WR-CALDESC:Events from 
REFRESH-INTERVAL;VALUE=DURATION:PT1440M
X-PUBLISHED-TTL:PT1440M
BEGIN:VTIMEZONE
TZID:Etc/GMT+0
BEGIN:STANDARD
DTSTART:20240227T000000Z
TZOFFSETFROM:+0000
TZOFFSETTO:+0000
END:STANDARD
END:VTIMEZONE
BEGIN:VTIMEZONE
TZID:UTC
BEGIN:STANDARD
DTSTART:20250728T184857Z
TZOFFSETFROM:+0000
TZOFFSETTO:+0000
END:STANDARD
END:VTIMEZONE
BEGIN:VEVENT
UID:529-527
DTSTAMP:20260424T184857Z
SUMMARY:KAIROS ELYSIAN ENIGMA
LOCATION:
ORGANIZER;CN=admin:MAILTO:q4mohan@gmail.com
DTSTART;TZID=Etc/GMT+0:20241123T000000
DTEND;TZID=Etc/GMT+0:20241123T010000
X-ALT-DESC;FMTTYPE=TEXT/HTML:
CATEGORIES:General
URL;VALUE=URI:https://kairosgs.com/mc-events/kairos-elysian-enigma/
METHOD:PUBLISH
END:VEVENT
END:VCALENDAR