BEGIN:VCALENDAR
VERSION:2.0
PRODID:spatie/icalendar-generator
DESCRIPTION:Events from 
X-WR-CALDESC:Events from 
REFRESH-INTERVAL;VALUE=DURATION:PT1440M
X-PUBLISHED-TTL:PT1440M
BEGIN:VTIMEZONE
TZID:Etc/GMT+0
BEGIN:STANDARD
DTSTART:20240316T000000Z
TZOFFSETFROM:+0000
TZOFFSETTO:+0000
END:STANDARD
END:VTIMEZONE
BEGIN:VTIMEZONE
TZID:UTC
BEGIN:STANDARD
DTSTART:20250726T051515Z
TZOFFSETFROM:+0000
TZOFFSETTO:+0000
END:STANDARD
END:VTIMEZONE
BEGIN:VEVENT
UID:543-541
DTSTAMP:20260422T051515Z
SUMMARY:Assembly Duties: Grade: 5B Theme: Impact of Technology on our daily
  lives
LOCATION:
ORGANIZER;CN=admin:MAILTO:q4mohan@gmail.com
DTSTART;TZID=Etc/GMT+0:20241211T000000
DTEND;TZID=Etc/GMT+0:20241211T010000
X-ALT-DESC;FMTTYPE=TEXT/HTML:
CATEGORIES:General
URL;VALUE=URI:https://kairosgs.com/mc-events/assembly-duties-grade-5b-theme
 -impact-of-technology-on-our-daily-lives-2/
METHOD:PUBLISH
END:VEVENT
END:VCALENDAR